BEGIN:VCALENDAR
VERSION:2.0
PRODID:icalendar-ruby
CALSCALE:GREGORIAN
BEGIN:VEVENT
DTSTAMP:20260424T145547Z
UID:event-3@www.washtenawrepublicans.org
DTSTART:20250109T180000
DTEND:20250109T190000
CREATED:20250913T165758
DESCRIPTION:Before our monthly general meeting\, we are happy to host a din
 ner hour where PDs and members come together to share good food and good c
 onversations.
LAST-MODIFIED:20251205T123735
LOCATION:Washtenaw County GOP HQ (south conference room)\, 3025 Boardwalk D
 rive\, Ann Arbor\, MI 48108
SUMMARY:Monthly Pizza Plus & Politics
URL;VALUE=URI:https://www.washtenawrepublicans.org/events/monthly-pizza-plu
 s-politics
END:VEVENT
END:VCALENDAR
