BEGIN:VCALENDAR
VERSION:2.0
PRODID:icalendar-ruby
CALSCALE:GREGORIAN
BEGIN:VEVENT
DTSTAMP:20260425T112314Z
UID:event-57@www.washtenawrepublicans.org
DTSTART:20260606T083000
DTEND:20260606T103000
CREATED:20260424T093141
DESCRIPTION:
LAST-MODIFIED:20260424T095514
LOCATION:Wayne County Fairgrounds\, 10871 Quirk Road\, Belleville\, MI 4811
 1
SUMMARY:Laura Perry Parking Volunteers & Flash Mob
URL;VALUE=URI:https://www.washtenawrepublicans.org/events/laura-perry-flash
 -mob-volunteer-opportunity
END:VEVENT
END:VCALENDAR
